BEGIN:VCALENDAR
VERSION:2.0
PRODID:-//Tukios.com/
BEGIN:VEVENT
UID:9a2d61c6-72ea-409a-9b77-21d7d794412f@www.newcomerorlando.com
DTSTAMP:20260422T201459Z
DTSTART:20260428T200000Z
DTEND:20260429T000000Z
SUMMARY:Funeral Service
DESCRIPTION:
URL:https://www.newcomerorlando.com/obituaries/gamalier-bonilla
LOCATION: 895 S Goldenrod Rd  Orlando FL 32822
GEO:28.5326585;-81.2851319
END:VEVENT
END:VCALENDAR