BEGIN:VCALENDAR
VERSION:2.0
PRODID:-//Tukios.com/
BEGIN:VEVENT
UID:a76ec2c9-e0bd-42c1-8a40-6e5548d2c5d0@www.newcomerorlando.com
DTSTAMP:20260423T173853Z
DTSTART:20260426T180000Z
DTEND:20260426T200000Z
SUMMARY:Viewing
DESCRIPTION:
URL:https://www.newcomerorlando.com/obituaries/gary-garcia
LOCATION: 335 E State Rd 434  Longwood FL 32750
GEO:28.6981187;-81.3414822
END:VEVENT
END:VCALENDAR