BEGIN:VCALENDAR
VERSION:2.0
PRODID:-//Tukios.com/
BEGIN:VEVENT
UID:7f125c22-91e2-4571-b177-5e09c998d0a6@www.newcomerorlando.com
DTSTAMP:20260423T174508Z
DTSTART:20260427T170000Z
DTEND:20260427T173000Z
SUMMARY:Burial
DESCRIPTION:
URL:https://www.newcomerorlando.com/obituaries/gary-garcia
LOCATION: 240 Greenleaf Lane  Lake Mary FL 32746
GEO:28.758866;-81.316532
END:VEVENT
END:VCALENDAR