BEGIN:VCALENDAR
VERSION:2.0
PRODID:-//Tukios.com/
BEGIN:VEVENT
UID:39ca9b36-5bc4-475a-910b-a521960d6279@www.newcomerorlando.com
DTSTAMP:20260423T174545Z
DTSTART:20260427T150000Z
DTEND:20260427T160000Z
SUMMARY:Funeral Service
DESCRIPTION:
URL:https://www.newcomerorlando.com/obituaries/gary-garcia
LOCATION:St. Peter's Lake Mary 700 Rinehart Rd  Lake Mary FL 32746
GEO:28.7784684;-81.3483636
END:VEVENT
END:VCALENDAR