BEGIN:VCALENDAR
VERSION:2.0
PRODID:-//Tukios.com/
BEGIN:VEVENT
UID:af6d9d50-14df-4d8c-aca2-cd87ab2d8121@www.newcomerorlando.com
DTSTAMP:20260423T173558Z
DTSTART:20260427T143000Z
DTEND:20260427T150000Z
SUMMARY:Visitation at Church
DESCRIPTION:
URL:https://www.newcomerorlando.com/obituaries/gary-garcia
LOCATION: 700 Rinehart Rd  Lake Mary FL 32746
GEO:28.7784684;-81.3483636
END:VEVENT
END:VCALENDAR