BEGIN:VCALENDAR
VERSION:2.0
PRODID:-//Tukios.com/
BEGIN:VEVENT
UID:b6c31860-1733-4ba2-b88e-5e7c2f487b97@www.newcomerorlando.com
DTSTAMP:20260424T225133Z
DTSTART:20260506T210000Z
DTEND:20260507T000000Z
SUMMARY:Visitation
DESCRIPTION:
URL:https://www.newcomerorlando.com/obituaries/gary-pechfelder
LOCATION: 3806 Howell Branch Road  Winter Park FL 32792
GEO:28.6230826;-81.3000438
END:VEVENT
END:VCALENDAR