BEGIN:VCALENDAR
VERSION:2.0
PRODID:-//Tukios.com/
BEGIN:VEVENT
UID:b7a816f3-8b61-45bd-8cbc-acd765066a90@www.newcomerorlando.com
DTSTAMP:20260424T181633Z
DTSTART:20260427T190000Z
DTEND:20260427T200000Z
SUMMARY:Funeral Service
DESCRIPTION:
URL:https://www.newcomerorlando.com/obituaries/john-gray-sr
LOCATION: 300 East Church Street  Orlando FL 32801
GEO:28.5402629;-81.3737298
END:VEVENT
END:VCALENDAR