BEGIN:VCALENDAR
VERSION:2.0
PRODID:-//Tukios.com/
BEGIN:VEVENT
UID:c7bd6f62-5d5f-4eb3-b70a-fe6dbdad5f44@www.newcomerorlando.com
DTSTAMP:20260422T184919Z
DTSTART:20260503T140000Z
DTEND:20260503T160000Z
SUMMARY:Visitation
DESCRIPTION:
URL:https://www.newcomerorlando.com/obituaries/julia-batista
LOCATION: 895 S Goldenrod Rd  Orlando FL 32822
GEO:28.5326585;-81.2851319
END:VEVENT
END:VCALENDAR