BEGIN:VCALENDAR
VERSION:2.0
PRODID:-//Tukios.com/
BEGIN:VEVENT
UID:c1fade24-7b2d-4797-a153-8d9da3b254f0@www.newcomerorlando.com
DTSTAMP:20260422T184925Z
DTSTART:20260503T160000Z
DTEND:20260503T170000Z
SUMMARY:Funeral Service
DESCRIPTION:
URL:https://www.newcomerorlando.com/obituaries/julia-batista
LOCATION: 895 S Goldenrod Rd  Orlando FL 32822
GEO:28.5326585;-81.2851319
END:VEVENT
END:VCALENDAR