BEGIN:VCALENDAR
VERSION:2.0
PRODID:-//Tukios.com/
BEGIN:VEVENT
UID:c1a741d8-e832-4876-a69c-20fd2065db92@www.newcomerorlando.com
DTSTAMP:20260423T081554Z
DTSTART:20260306T170000Z
DTEND:20260306T200000Z
SUMMARY:Viewing
DESCRIPTION:
URL:https://www.newcomerorlando.com/obituaries/lawrence-romeo-2026
LOCATION: 895 S Goldenrod Rd  Orlando FL 32822
GEO:28.5326585;-81.2851319
END:VEVENT
END:VCALENDAR