BEGIN:VCALENDAR
VERSION:2.0
PRODID:-//Tukios.com/
BEGIN:VEVENT
UID:2285032f-33aa-479d-be30-facb90651392@www.newcomerorlando.com
DTSTAMP:20260423T081337Z
DTSTART:20260306T190000Z
DTEND:20260306T200000Z
SUMMARY:Funeral Service
DESCRIPTION:
URL:https://www.newcomerorlando.com/obituaries/lawrence-romeo-2026
LOCATION: 895 S Goldenrod Rd  Orlando FL 32822
GEO:28.5326585;-81.2851319
END:VEVENT
END:VCALENDAR