BEGIN:VCALENDAR
VERSION:2.0
PRODID:-//Tukios.com/
BEGIN:VEVENT
UID:709491db-bb21-4595-859d-e572c4b64ce8@www.newcomerorlando.com
DTSTAMP:20260422T174737Z
DTSTART:20260502T200000Z
DTEND:20260502T210000Z
SUMMARY:Celebration of Life
DESCRIPTION:
URL:https://www.newcomerorlando.com/obituaries/marguerite-creech
LOCATION:Orangewood Church 1300 Maitland Blvd  Maitland FL 32751
GEO:28.6303172;-81.3807816
END:VEVENT
END:VCALENDAR